BEGIN:VCALENDAR
VERSION:2.0
PRODID:-//POLIISIEN AMPUMASEURA RY - ECPv6.0.11//NONSGML v1.0//EN
CALSCALE:GREGORIAN
METHOD:PUBLISH
X-WR-CALNAME:POLIISIEN AMPUMASEURA RY
X-ORIGINAL-URL:https://koe.pas.fi
X-WR-CALDESC:Tapahtumat POLIISIEN AMPUMASEURA RY
REFRESH-INTERVAL;VALUE=DURATION:PT1H
X-Robots-Tag:noindex
X-PUBLISHED-TTL:PT1H
BEGIN:VTIMEZONE
TZID:Europe/Helsinki
BEGIN:DAYLIGHT
TZOFFSETFROM:+0200
TZOFFSETTO:+0300
TZNAME:EEST
DTSTART:20190331T010000
END:DAYLIGHT
BEGIN:STANDARD
TZOFFSETFROM:+0300
TZOFFSETTO:+0200
TZNAME:EET
DTSTART:20191027T010000
END:STANDARD
END:VTIMEZONE
BEGIN:VEVENT
DTSTART;TZID=Europe/Helsinki:20190728T110000
DTEND;TZID=Europe/Helsinki:20190728T160000
DTSTAMP:20260425T224202
CREATED:20190630T033015Z
LAST-MODIFIED:20190630T033015Z
UID:1005-1564311600-1564329600@koe.pas.fi
SUMMARY:Ruutiasepäivä 2019
DESCRIPTION:KUTSU
URL:https://koe.pas.fi/event/ruutiasepaiva-2019/
LOCATION:Hyvinkään ampumarata\, Hikiäntie 1470\, Hyvinkää
END:VEVENT
END:VCALENDAR