BEGIN:VCALENDAR
VERSION:2.0
PRODID:-//POLIISIEN AMPUMASEURA RY - ECPv6.0.11//NONSGML v1.0//EN
CALSCALE:GREGORIAN
METHOD:PUBLISH
X-ORIGINAL-URL:https://koe.pas.fi
X-WR-CALDESC:Tapahtumat POLIISIEN AMPUMASEURA RY
REFRESH-INTERVAL;VALUE=DURATION:PT1H
X-Robots-Tag:noindex
X-PUBLISHED-TTL:PT1H
BEGIN:VTIMEZONE
TZID:Europe/Helsinki
BEGIN:DAYLIGHT
TZOFFSETFROM:+0200
TZOFFSETTO:+0300
TZNAME:EEST
DTSTART:20200329T010000
END:DAYLIGHT
BEGIN:STANDARD
TZOFFSETFROM:+0300
TZOFFSETTO:+0200
TZNAME:EET
DTSTART:20201025T010000
END:STANDARD
END:VTIMEZONE
BEGIN:VEVENT
DTSTART;TZID=Europe/Helsinki:20200112T183000
DTEND;TZID=Europe/Helsinki:20200112T200000
DTSTAMP:20260425T132145
CREATED:20191126T064517Z
LAST-MODIFIED:20191201T204323Z
UID:1264-1578853800-1578859200@koe.pas.fi
SUMMARY:Ampumakoulu kevät 2020 alkaa
DESCRIPTION:ESITE \nILMOITTAUTUMINEN
URL:https://koe.pas.fi/event/ampumakoulu-kevat-2020-alkaa/
LOCATION:Maunulan liikuntahalli
END:VEVENT
END:VCALENDAR