BEGIN:VCALENDAR
VERSION:2.0
PRODID:-//POLIISIEN AMPUMASEURA RY - ECPv6.0.11//NONSGML v1.0//EN
CALSCALE:GREGORIAN
METHOD:PUBLISH
X-ORIGINAL-URL:https://koe.pas.fi
X-WR-CALDESC:Tapahtumat POLIISIEN AMPUMASEURA RY
REFRESH-INTERVAL;VALUE=DURATION:PT1H
X-Robots-Tag:noindex
X-PUBLISHED-TTL:PT1H
BEGIN:VTIMEZONE
TZID:Europe/Helsinki
BEGIN:DAYLIGHT
TZOFFSETFROM:+0200
TZOFFSETTO:+0300
TZNAME:EEST
DTSTART:20200329T010000
END:DAYLIGHT
BEGIN:STANDARD
TZOFFSETFROM:+0300
TZOFFSETTO:+0200
TZNAME:EET
DTSTART:20201025T010000
END:STANDARD
END:VTIMEZONE
BEGIN:VEVENT
DTSTART;VALUE=DATE:20200125
DTEND;VALUE=DATE:20200126
DTSTAMP:20260425T132147
CREATED:20190902T173553Z
LAST-MODIFIED:20200119T205111Z
UID:1084-1579910400-1579996799@koe.pas.fi
SUMMARY:Maunulan ilma-asekilpailu
DESCRIPTION:KILPAILUKUTSU \nILMOITTAUTUMINEN \nERÄLUETTELOT
URL:https://koe.pas.fi/event/maunulan-ilma-asekilpailu/
LOCATION:Maunulan liikuntahalli
END:VEVENT
END:VCALENDAR