BEGIN:VCALENDAR
VERSION:2.0
PRODID:-//POLIISIEN AMPUMASEURA RY - ECPv6.0.11//NONSGML v1.0//EN
CALSCALE:GREGORIAN
METHOD:PUBLISH
X-ORIGINAL-URL:https://koe.pas.fi
X-WR-CALDESC:Tapahtumat POLIISIEN AMPUMASEURA RY
REFRESH-INTERVAL;VALUE=DURATION:PT1H
X-Robots-Tag:noindex
X-PUBLISHED-TTL:PT1H
BEGIN:VTIMEZONE
TZID:Europe/Helsinki
BEGIN:DAYLIGHT
TZOFFSETFROM:+0200
TZOFFSETTO:+0300
TZNAME:EEST
DTSTART:20200329T010000
END:DAYLIGHT
BEGIN:STANDARD
TZOFFSETFROM:+0300
TZOFFSETTO:+0200
TZNAME:EET
DTSTART:20201025T010000
END:STANDARD
END:VTIMEZONE
BEGIN:VEVENT
DTSTART;TZID=Europe/Helsinki:20201112T180000
DTEND;TZID=Europe/Helsinki:20201112T193000
DTSTAMP:20260424T223446
CREATED:20201007T055057Z
LAST-MODIFIED:20201007T055057Z
UID:1836-1605204000-1605209400@koe.pas.fi
SUMMARY:Action Air TA-kurssi (käytännön harjoittelu\, ryhmä A)
DESCRIPTION:
URL:https://koe.pas.fi/event/action-air-ta-kurssi-kaytannon-harjoittelu-ryhma-a-3/
END:VEVENT
BEGIN:VEVENT
DTSTART;TZID=Europe/Helsinki:20201112T193000
DTEND;TZID=Europe/Helsinki:20201112T210000
DTSTAMP:20260424T223446
CREATED:20201007T055118Z
LAST-MODIFIED:20201007T055118Z
UID:1838-1605209400-1605214800@koe.pas.fi
SUMMARY:Action Air TA-kurssi (käytännön harjoittelu\, ryhmä B)
DESCRIPTION:
URL:https://koe.pas.fi/event/action-air-ta-kurssi-kaytannon-harjoittelu-ryhma-b-3/
END:VEVENT
END:VCALENDAR