BEGIN:VCALENDAR
VERSION:2.0
PRODID:-//POLIISIEN AMPUMASEURA RY - ECPv6.0.11//NONSGML v1.0//EN
CALSCALE:GREGORIAN
METHOD:PUBLISH
X-ORIGINAL-URL:https://koe.pas.fi
X-WR-CALDESC:Tapahtumat POLIISIEN AMPUMASEURA RY
REFRESH-INTERVAL;VALUE=DURATION:PT1H
X-Robots-Tag:noindex
X-PUBLISHED-TTL:PT1H
BEGIN:VTIMEZONE
TZID:Europe/Helsinki
BEGIN:DAYLIGHT
TZOFFSETFROM:+0200
TZOFFSETTO:+0300
TZNAME:EEST
DTSTART:20200329T010000
END:DAYLIGHT
BEGIN:STANDARD
TZOFFSETFROM:+0300
TZOFFSETTO:+0200
TZNAME:EET
DTSTART:20201025T010000
END:STANDARD
END:VTIMEZONE
BEGIN:VEVENT
DTSTART;TZID=Europe/Helsinki:20201117T180000
DTEND;TZID=Europe/Helsinki:20201117T193000
DTSTAMP:20260424T224105
CREATED:20201007T055148Z
LAST-MODIFIED:20201007T055148Z
UID:1840-1605636000-1605641400@koe.pas.fi
SUMMARY:Action Air TA-kurssi (käytännön harjoittelu\, ryhmä A)
DESCRIPTION:
URL:https://koe.pas.fi/event/action-air-ta-kurssi-kaytannon-harjoittelu-ryhma-a-4/
END:VEVENT
BEGIN:VEVENT
DTSTART;TZID=Europe/Helsinki:20201117T193000
DTEND;TZID=Europe/Helsinki:20201117T210000
DTSTAMP:20260424T224105
CREATED:20201007T055210Z
LAST-MODIFIED:20201007T055210Z
UID:1842-1605641400-1605646800@koe.pas.fi
SUMMARY:Action Air TA-kurssi (käytännön harjoittelu\, ryhmä B)
DESCRIPTION:
URL:https://koe.pas.fi/event/action-air-ta-kurssi-kaytannon-harjoittelu-ryhma-b-4/
END:VEVENT
END:VCALENDAR