BEGIN:VCALENDAR
VERSION:2.0
PRODID:-//POLIISIEN AMPUMASEURA RY - ECPv6.0.11//NONSGML v1.0//EN
CALSCALE:GREGORIAN
METHOD:PUBLISH
X-WR-CALNAME:POLIISIEN AMPUMASEURA RY
X-ORIGINAL-URL:https://koe.pas.fi
X-WR-CALDESC:Tapahtumat POLIISIEN AMPUMASEURA RY
REFRESH-INTERVAL;VALUE=DURATION:PT1H
X-Robots-Tag:noindex
X-PUBLISHED-TTL:PT1H
BEGIN:VTIMEZONE
TZID:Europe/Helsinki
BEGIN:DAYLIGHT
TZOFFSETFROM:+0200
TZOFFSETTO:+0300
TZNAME:EEST
DTSTART:20200329T010000
END:DAYLIGHT
BEGIN:STANDARD
TZOFFSETFROM:+0300
TZOFFSETTO:+0200
TZNAME:EET
DTSTART:20201025T010000
END:STANDARD
END:VTIMEZONE
BEGIN:VEVENT
DTSTART;TZID=Europe/Helsinki:20201119T183000
DTEND;TZID=Europe/Helsinki:20201119T200000
DTSTAMP:20260424T223936
CREATED:20201019T125617Z
LAST-MODIFIED:20201019T125916Z
UID:1886-1605810600-1605816000@koe.pas.fi
SUMMARY:Syyskokous
DESCRIPTION:Hyvä seuran jäsen\, \nLämpimästi tervetuloa Poliisien Ampumaseura ry:n sääntömääräiseen syyskokoukseen\, joka pidetään\nTO 19.11.2020 klo 18.30\nosoitteessa Hyttitie 4 B\, 2. krs.\, 00700 Helsinki. \nKokouksessa käsitellään sääntöjen 11 §:n mukaiset asiat kuten seuran puheenjohtajan valinta sekä hallituksen jäsenten valinta erovuoroisten tilalle. Lisäksi päätetään esim. jäsenmaksun suuruudesta ensi vuodelle. \nKokoukseen on mahdollista osallistua myös etänä Zoom-etäkokoussovellusta käyttäen. Hallitus suosittelee kaikille ja aivan erityisesti covid19-riskiryhmiin kuuluville seuran jäsenille etäosallistumista henkilökohtaisen läsnäolon sijasta. Kaikilta kokouspaikalle saapuvilta edellytetään kasvomaskin käyttöä.  \nIlmoittautuminen (kokousjärjestelyiden ja tarjoilujen takia) viimeistään 11.11.2020 mennessä osoitteessa https://ilmoittautuminen.pas.fi. Ilmoittautumisen yhteydessä tulee ilmoittaa lisätiedoissa\, mikäli haluat osallistua kokoukseen etänä. Linkki Zoom-etäkokoukseen lähetetään vain etäosallistumisesta ilmoittaneille. \nZoom-sovelluksen ohjeet saat esille TÄSTÄ. Hallituksen jäsen F. Wikström on lupautunut tarvittaessa auttamaan etäkokoukseen osallistuvia Zoom-sovelluksen käyttämisessä. Sovellus on helppokäyttöinen ja sitä voi käyttää kaikissa yleisimmissä käyttöjärjestelmissä: Windows\, MacOS\, Android\, iOS ja Linux. \nSaapumisesta:\nKokouspaikalle pääsee Helsingin keskustasta linja-autoilla 69 ja 77\, joiden lähin pysäkki on Tattariharjuntiellä (Harkkorauta-niminen pysäkki). Hyttitie 4:stä löydät opasteet pihasta kokoustiloihin. Lisätietoja kokouspaikasta: Olli Heikka\, puh. 0406815676. \nTervetuloa! \nPoliisien Ampumaseura ry\nHallitus
URL:https://koe.pas.fi/event/syyskokous-2020/
LOCATION:Hyttitie 4 B\, Helsinki
END:VEVENT
END:VCALENDAR