BEGIN:VCALENDAR
VERSION:2.0
PRODID:-//POLIISIEN AMPUMASEURA RY - ECPv6.0.11//NONSGML v1.0//EN
CALSCALE:GREGORIAN
METHOD:PUBLISH
X-ORIGINAL-URL:https://koe.pas.fi
X-WR-CALDESC:Tapahtumat POLIISIEN AMPUMASEURA RY
REFRESH-INTERVAL;VALUE=DURATION:PT1H
X-Robots-Tag:noindex
X-PUBLISHED-TTL:PT1H
BEGIN:VTIMEZONE
TZID:Europe/Helsinki
BEGIN:DAYLIGHT
TZOFFSETFROM:+0200
TZOFFSETTO:+0300
TZNAME:EEST
DTSTART:20190331T010000
END:DAYLIGHT
BEGIN:STANDARD
TZOFFSETFROM:+0300
TZOFFSETTO:+0200
TZNAME:EET
DTSTART:20191027T010000
END:STANDARD
END:VTIMEZONE
BEGIN:VEVENT
DTSTART;TZID=Europe/Helsinki:20191216T170000
DTEND;TZID=Europe/Helsinki:20191216T190000
DTSTAMP:20260425T132541
CREATED:20191208T170022Z
LAST-MODIFIED:20191208T170326Z
UID:1314-1576515600-1576522800@koe.pas.fi
SUMMARY:Ampumakokeilu
DESCRIPTION:KUTSU \nILMOITTAUTUMINEN
URL:https://koe.pas.fi/event/ampumakokeilu-3/
END:VEVENT
END:VCALENDAR