BEGIN:VCALENDAR
VERSION:2.0
PRODID:-//POLIISIEN AMPUMASEURA RY - ECPv6.0.11//NONSGML v1.0//EN
CALSCALE:GREGORIAN
METHOD:PUBLISH
X-WR-CALNAME:POLIISIEN AMPUMASEURA RY
X-ORIGINAL-URL:https://koe.pas.fi
X-WR-CALDESC:Tapahtumat POLIISIEN AMPUMASEURA RY
REFRESH-INTERVAL;VALUE=DURATION:PT1H
X-Robots-Tag:noindex
X-PUBLISHED-TTL:PT1H
BEGIN:VTIMEZONE
TZID:Europe/Helsinki
BEGIN:DAYLIGHT
TZOFFSETFROM:+0200
TZOFFSETTO:+0300
TZNAME:EEST
DTSTART:20200329T010000
END:DAYLIGHT
BEGIN:STANDARD
TZOFFSETFROM:+0300
TZOFFSETTO:+0200
TZNAME:EET
DTSTART:20201025T010000
END:STANDARD
END:VTIMEZONE
BEGIN:VEVENT
DTSTART;TZID=Europe/Helsinki:20200613T160000
DTEND;TZID=Europe/Helsinki:20200613T170000
DTSTAMP:20260425T042028
CREATED:20200521T134136Z
LAST-MODIFIED:20200521T135006Z
UID:1643-1592064000-1592067600@koe.pas.fi
SUMMARY:Kevätkokous
DESCRIPTION:Hyvä seuran jäsen\, \n  \nLämpimästi tervetuloa Poliisien Ampumaseura ry:n sääntömääräiseen kevätkokoukseen\, joka pidetään \nLA 13.6.2020 klo 16.00 \n  \nosoitteessa Hyttitie 4 B\, 2. krs.\, 00700 Helsinki. \n  \nKokouksessa käsitellään sääntöjen 10 §:n mukaiset asiat kuten toimintakertomus ja tilinpäätös. Kokoukseen on mahdollista osallistua myös etänä Zoom-etäkokoussovellusta käyttäen. Hallitus suosittelee\, että kaikki covid19-riskiryhmiin kuuluvat seuran jäsenet osallistuvat kokoukseen henkilökohtaisen läsnäolon sijasta etänä. \n  \nIlmoittautuminen (kokousjärjestelyiden ja tarjoilujen takia) viimeistään 6.6.2020 mennessä osoitteessa www.pas.fi/ilmoittautuminen. Ilmoittautumisen yhteydessä tulee ilmoittaa lisätiedoissa\, mikäli haluat osallistua kokoukseen etänä. Linkki Zoom-etäkokoukseen lähetetään vain etäosallistumisesta ilmoittaneille. \n  \nZoom-sovelluksen ohjeet on lähetetty kokouskutsun liitteenä sähköpostitse. Hallituksen jäsen F. Wikström on lupautunut tarvittaessa auttamaan etäkokoukseen osallistuvia Zoom-sovelluksen käyttämisessä. Sovellus on helppokäyttöinen ja sitä voi käyttää kaikissa yleisimmissä käyttöjärjestelmissä: Windows\, MacOS\, Android\, iOS ja Linux. \n  \nSaapumisesta: \nKokouspaikalle pääsee Helsingin keskustasta linja-autoilla 69 ja 77\, joiden lähin pysäkki on Tattariharjuntiellä (Harkkorauta-niminen pysäkki). Hyttitie 4:stä löydät opasteet pihasta kokoustiloihin. Lisätietoja kokouspaikasta: Olli Heikka\, puh. 0406815676. \n  \nTervetuloa! \n  \nPoliisien Ampumaseura ry \nHallitus \n 
URL:https://koe.pas.fi/event/kevatkokous-3/
END:VEVENT
END:VCALENDAR